BEGIN:VCALENDAR
VERSION:2.0
PRODID:-//wp-events-plugin.com//7.2.3.1//EN
TZID:America/El_Salvador
X-WR-TIMEZONE:America/El_Salvador
BEGIN:VEVENT
UID:2@stmichael.site
DTSTART;TZID=America/El_Salvador:20251225T000000
DTEND;TZID=America/El_Salvador:20251231T000000
DTSTAMP:20251226T221630Z
URL:https://stmichael.site/events/misas-parroquia-san-miguel-arcangel-huiz
 ucar-2/
SUMMARY:Misas Parroquia San Miguel Arcángel\, Huizúcar
DESCRIPTION:
LOCATION:https://www.facebook.com/photo?fbid=1292652306226032&set=pcb.12926
 52346226028
END:VEVENT
BEGIN:VTIMEZONE
TZID:America/El_Salvador
X-LIC-LOCATION:America/El_Salvador
BEGIN:STANDARD
DTSTART:20241225T000000
TZOFFSETFROM:-0600
TZOFFSETTO:-0600
TZNAME:CST
END:STANDARD
END:VTIMEZONE
END:VCALENDAR